BEGIN:VCALENDAR
VERSION:2.0
PRODID:-//AusschreibungsRadar//Timeline//DE
CALSCALE:GREGORIAN
METHOD:PUBLISH
X-WR-CALNAME:Projekt Deutschland-Illertissen: Dienstleistungen von Architekturbür
X-WR-TIMEZONE:Europe/Berlin
BEGIN:VEVENT
UID:a293d0c89dabd6f7@ausschreibungsradar.com
DTSTAMP:20260425T155044Z
DTSTART;VALUE=DATE:20230717
DTEND;VALUE=DATE:20230717
SUMMARY:Zuschlag — Deutschland-Illertissen: Dienstleistungen von Architekturbür
DESCRIPTION:Phase: Zuschlag | Beschreibung: Vergabeergebnis — Auftrag wurde erteilt oder Verfahren beendet. | Link: https://ausschreibungsradar.com/ausschreibung/ted-432395-2023/
URL:https://ausschreibungsradar.com/ausschreibung/ted-432395-2023/
END:VEVENT
BEGIN:VEVENT
UID:7122e26cbe090d3b@ausschreibungsradar.com
DTSTAMP:20260425T155044Z
DTSTART;VALUE=DATE:20230811
DTEND;VALUE=DATE:20230811
SUMMARY:Zuschlag — Deutschland-Illertissen: Dienstleistungen von Architekturbür
DESCRIPTION:Phase: Zuschlag | Beschreibung: Vergabeergebnis — Auftrag wurde erteilt oder Verfahren beendet. | Link: https://ausschreibungsradar.com/ausschreibung/ted-488170-2023/ | Geschätzter Wert: 434639 €
URL:https://ausschreibungsradar.com/ausschreibung/ted-488170-2023/
END:VEVENT
END:VCALENDAR
