BEGIN:VCALENDAR
VERSION:2.0
PRODID:-//AusschreibungsRadar//Timeline//DE
CALSCALE:GREGORIAN
METHOD:PUBLISH
X-WR-CALNAME:Projekt Deutschland – Softwarepaket und Informationssysteme – Bereit
X-WR-TIMEZONE:Europe/Berlin
BEGIN:VEVENT
UID:87efd7d5c282a06c@ausschreibungsradar.com
DTSTAMP:20260424T001648Z
DTSTART;VALUE=DATE:20250929
DTEND;VALUE=DATE:20250929
SUMMARY:Ausschreibung — Deutschland – Softwarepaket und Informationssysteme – Bereit
DESCRIPTION:Phase: Ausschreibung | Beschreibung: Offizielle Ausschreibung mit Bieterfrist. | Link: https://ausschreibungsradar.com/ausschreibung/0199961b-59a2-440e-ad24-7c8dbed8d801/
URL:https://ausschreibungsradar.com/ausschreibung/0199961b-59a2-440e-ad24-7c8dbed8d801/
END:VEVENT
BEGIN:VEVENT
UID:b6917e55109d1a51@ausschreibungsradar.com
DTSTAMP:20260424T001648Z
DTSTART;VALUE=DATE:20250929
DTEND;VALUE=DATE:20250929
SUMMARY:Ausschreibung — Deutschland – Softwarepaket und Informationssysteme – Bereit
DESCRIPTION:Phase: Ausschreibung | Beschreibung: Offizielle Ausschreibung mit Bieterfrist. | Link: https://ausschreibungsradar.com/ausschreibung/01999f7f-ffee-42db-a858-fbd6ea8b2c3a/
URL:https://ausschreibungsradar.com/ausschreibung/01999f7f-ffee-42db-a858-fbd6ea8b2c3a/
END:VEVENT
BEGIN:VEVENT
UID:d0811d4b0c4e01dd@ausschreibungsradar.com
DTSTAMP:20260424T001648Z
DTSTART;VALUE=DATE:20251002
DTEND;VALUE=DATE:20251002
SUMMARY:Ausschreibung — Deutschland – Softwarepaket und Informationssysteme – Bereit
DESCRIPTION:Phase: Ausschreibung | Beschreibung: Offizielle Ausschreibung mit Bieterfrist. | Link: https://ausschreibungsradar.com/ausschreibung/ted-644016-2025/
URL:https://ausschreibungsradar.com/ausschreibung/ted-644016-2025/
END:VEVENT
BEGIN:VEVENT
UID:ef8ab4ba09f8750d@ausschreibungsradar.com
DTSTAMP:20260424T001648Z
DTSTART;VALUE=DATE:20251022
DTEND;VALUE=DATE:20251022
SUMMARY:Zuschlag — Deutschland – Softwarepaket und Informationssysteme – Bereit
DESCRIPTION:Phase: Zuschlag | Beschreibung: Vergabeergebnis — Auftrag wurde erteilt oder Verfahren beendet. | Link: https://ausschreibungsradar.com/ausschreibung/019a0c84-7eaa-4102-bcf8-1692fbb32e09/
URL:https://ausschreibungsradar.com/ausschreibung/019a0c84-7eaa-4102-bcf8-1692fbb32e09/
END:VEVENT
END:VCALENDAR
