BEGIN:VCALENDAR
VERSION:2.0
PRODID:-//AusschreibungsRadar//Timeline//DE
CALSCALE:GREGORIAN
METHOD:PUBLISH
X-WR-CALNAME:Projekt Deutschland – Bauarbeiten für Schwimmbäder – Sanierung und E
X-WR-TIMEZONE:Europe/Berlin
BEGIN:VEVENT
UID:5a7b09a9301bf08d@ausschreibungsradar.com
DTSTAMP:20260424T105415Z
DTSTART;VALUE=DATE:20250918
DTEND;VALUE=DATE:20250918
SUMMARY:Ausschreibung — Deutschland – Bauarbeiten für Schwimmbäder – Sanierung und E
DESCRIPTION:Phase: Ausschreibung | Beschreibung: Offizielle Ausschreibung mit Bieterfrist. | Link: https://ausschreibungsradar.com/ausschreibung/886614d3-3ddf-46b3-8e2a-8313a20c9462/
URL:https://ausschreibungsradar.com/ausschreibung/886614d3-3ddf-46b3-8e2a-8313a20c9462/
END:VEVENT
BEGIN:VEVENT
UID:2f3ada866c73194b@ausschreibungsradar.com
DTSTAMP:20260424T105415Z
DTSTART;VALUE=DATE:20250918
DTEND;VALUE=DATE:20250918
SUMMARY:Ausschreibung — Deutschland – Bauarbeiten für Schwimmbäder – Sanierung und E
DESCRIPTION:Phase: Ausschreibung | Beschreibung: Offizielle Ausschreibung mit Bieterfrist. | Link: https://ausschreibungsradar.com/ausschreibung/b81a52fe-9f35-4df0-9955-3350cc48bccc/
URL:https://ausschreibungsradar.com/ausschreibung/b81a52fe-9f35-4df0-9955-3350cc48bccc/
END:VEVENT
BEGIN:VEVENT
UID:9bf29fc103e9e48d@ausschreibungsradar.com
DTSTAMP:20260424T105415Z
DTSTART;VALUE=DATE:20250923
DTEND;VALUE=DATE:20250923
SUMMARY:Ausschreibung — Deutschland – Bauarbeiten für Schwimmbäder – Sanierung und E
DESCRIPTION:Phase: Ausschreibung | Beschreibung: Offizielle Ausschreibung mit Bieterfrist. | Link: https://ausschreibungsradar.com/ausschreibung/24434888/
URL:https://ausschreibungsradar.com/ausschreibung/24434888/
END:VEVENT
BEGIN:VEVENT
UID:a01a2ad7dc873c05@ausschreibungsradar.com
DTSTAMP:20260424T105415Z
DTSTART;VALUE=DATE:20250926
DTEND;VALUE=DATE:20250926
SUMMARY:Ausschreibung — Deutschland – Bauarbeiten für Schwimmbäder – Sanierung und E
DESCRIPTION:Phase: Ausschreibung | Beschreibung: Offizielle Ausschreibung mit Bieterfrist. | Link: https://ausschreibungsradar.com/ausschreibung/9077f8d1-268e-4822-a48f-4dbe917c3c9a/
URL:https://ausschreibungsradar.com/ausschreibung/9077f8d1-268e-4822-a48f-4dbe917c3c9a/
END:VEVENT
BEGIN:VEVENT
UID:4135da31386adb8c@ausschreibungsradar.com
DTSTAMP:20260424T105415Z
DTSTART;VALUE=DATE:20250929
DTEND;VALUE=DATE:20250929
SUMMARY:Ausschreibung — Deutschland – Bauarbeiten für Schwimmbäder – Sanierung und E
DESCRIPTION:Phase: Ausschreibung | Beschreibung: Offizielle Ausschreibung mit Bieterfrist. | Link: https://ausschreibungsradar.com/ausschreibung/24458574/
URL:https://ausschreibungsradar.com/ausschreibung/24458574/
END:VEVENT
BEGIN:VEVENT
UID:12a0bfa895f6b691@ausschreibungsradar.com
DTSTAMP:20260424T105415Z
DTSTART;VALUE=DATE:20251003
DTEND;VALUE=DATE:20251003
SUMMARY:Ausschreibung — Deutschland – Bauarbeiten für Schwimmbäder – Sanierung und E
DESCRIPTION:Phase: Ausschreibung | Beschreibung: Offizielle Ausschreibung mit Bieterfrist. | Link: https://ausschreibungsradar.com/ausschreibung/ted-647776-2025/
URL:https://ausschreibungsradar.com/ausschreibung/ted-647776-2025/
END:VEVENT
END:VCALENDAR
