BEGIN:VCALENDAR
VERSION:2.0
PRODID:-//AusschreibungsRadar//Timeline//DE
CALSCALE:GREGORIAN
METHOD:PUBLISH
X-WR-CALNAME:Projekt Deutschland – Landschaftsgärtnerische Arbeiten – Erweiterung
X-WR-TIMEZONE:Europe/Berlin
BEGIN:VEVENT
UID:3d3e865e086d463f@ausschreibungsradar.com
DTSTAMP:20260425T234001Z
DTSTART;VALUE=DATE:20240130
DTEND;VALUE=DATE:20240130
SUMMARY:Ausschreibung — Deutschland – Landschaftsgärtnerische Arbeiten – Erweiterung
DESCRIPTION:Phase: Ausschreibung | Beschreibung: Offizielle Ausschreibung mit Bieterfrist. | Link: https://ausschreibungsradar.com/ausschreibung/eef6dc6f-310b-461e-b1ba-66115d69fa18/
URL:https://ausschreibungsradar.com/ausschreibung/eef6dc6f-310b-461e-b1ba-66115d69fa18/
END:VEVENT
BEGIN:VEVENT
UID:15a451722005e538@ausschreibungsradar.com
DTSTAMP:20260425T234001Z
DTSTART;VALUE=DATE:20240131
DTEND;VALUE=DATE:20240131
SUMMARY:Ausschreibung — Deutschland – Landschaftsgärtnerische Arbeiten – Erweiterung
DESCRIPTION:Phase: Ausschreibung | Beschreibung: Offizielle Ausschreibung mit Bieterfrist. | Link: https://ausschreibungsradar.com/ausschreibung/ted-64787-2024/
URL:https://ausschreibungsradar.com/ausschreibung/ted-64787-2024/
END:VEVENT
END:VCALENDAR
