BEGIN:VCALENDAR
VERSION:2.0
PRODID:-//AusschreibungsRadar//Timeline//DE
CALSCALE:GREGORIAN
METHOD:PUBLISH
X-WR-CALNAME:Projekt Deutschland – Dienstleistungen von Ingenieurbüros – Erweiter
X-WR-TIMEZONE:Europe/Berlin
BEGIN:VEVENT
UID:a9ff9c95e7f45a5e@ausschreibungsradar.com
DTSTAMP:20260426T032411Z
DTSTART;VALUE=DATE:20251003
DTEND;VALUE=DATE:20251003
SUMMARY:Zuschlag — Deutschland – Dienstleistungen von Ingenieurbüros – Erweiter
DESCRIPTION:Phase: Zuschlag | Beschreibung: Vergabeergebnis — Auftrag wurde erteilt oder Verfahren beendet. | Link: https://ausschreibungsradar.com/ausschreibung/ted-649958-2025/ | Geschätzter Wert: 203124 €
URL:https://ausschreibungsradar.com/ausschreibung/ted-649958-2025/
END:VEVENT
BEGIN:VEVENT
UID:5ddfedf6d121e042@ausschreibungsradar.com
DTSTAMP:20260426T032411Z
DTSTART;VALUE=DATE:20251008
DTEND;VALUE=DATE:20251008
SUMMARY:Zuschlag — Deutschland – Dienstleistungen von Ingenieurbüros – Erweiter
DESCRIPTION:Phase: Zuschlag | Beschreibung: Vergabeergebnis — Auftrag wurde erteilt oder Verfahren beendet. | Link: https://ausschreibungsradar.com/ausschreibung/ted-658778-2025/
URL:https://ausschreibungsradar.com/ausschreibung/ted-658778-2025/
END:VEVENT
END:VCALENDAR
