BEGIN:VCALENDAR
VERSION:2.0
PRODID:-//AusschreibungsRadar//Timeline//DE
CALSCALE:GREGORIAN
METHOD:PUBLISH
X-WR-CALNAME:Projekt Deutschland – Projektmanagement im Bauwesen – Projektsteueru
X-WR-TIMEZONE:Europe/Berlin
BEGIN:VEVENT
UID:45f0c30ed3c102a3@ausschreibungsradar.com
DTSTAMP:20260424T031456Z
DTSTART;VALUE=DATE:20251003
DTEND;VALUE=DATE:20251003
SUMMARY:Ausschreibung — Deutschland – Projektmanagement im Bauwesen – Projektsteueru
DESCRIPTION:Phase: Ausschreibung | Beschreibung: Offizielle Ausschreibung mit Bieterfrist. | Link: https://ausschreibungsradar.com/ausschreibung/d2b18dd5-b9d1-416a-af97-4df0cdf0bf07/
URL:https://ausschreibungsradar.com/ausschreibung/d2b18dd5-b9d1-416a-af97-4df0cdf0bf07/
END:VEVENT
BEGIN:VEVENT
UID:b36a6634c15493c3@ausschreibungsradar.com
DTSTAMP:20260424T031456Z
DTSTART;VALUE=DATE:20251003
DTEND;VALUE=DATE:20251003
SUMMARY:Ausschreibung — Deutschland – Projektmanagement im Bauwesen – Projektsteueru
DESCRIPTION:Phase: Ausschreibung | Beschreibung: Offizielle Ausschreibung mit Bieterfrist. | Link: https://ausschreibungsradar.com/ausschreibung/40553eab-5faf-4b04-bbb4-3fe58b203ca7/
URL:https://ausschreibungsradar.com/ausschreibung/40553eab-5faf-4b04-bbb4-3fe58b203ca7/
END:VEVENT
BEGIN:VEVENT
UID:6d40f250bca066f1@ausschreibungsradar.com
DTSTAMP:20260424T031456Z
DTSTART;VALUE=DATE:20251006
DTEND;VALUE=DATE:20251006
SUMMARY:Ausschreibung — Deutschland – Projektmanagement im Bauwesen – Projektsteueru
DESCRIPTION:Phase: Ausschreibung | Beschreibung: Offizielle Ausschreibung mit Bieterfrist. | Link: https://ausschreibungsradar.com/ausschreibung/ted-652677-2025/
URL:https://ausschreibungsradar.com/ausschreibung/ted-652677-2025/
END:VEVENT
END:VCALENDAR
