BEGIN:VCALENDAR
VERSION:2.0
PRODID:-//AusschreibungsRadar//Timeline//DE
CALSCALE:GREGORIAN
METHOD:PUBLISH
X-WR-CALNAME:Projekt Deutschland – Leistungsschalter – 123kV Leistungsschalter
X-WR-TIMEZONE:Europe/Berlin
BEGIN:VEVENT
UID:f196ddaa07103d6c@ausschreibungsradar.com
DTSTAMP:20260426T024952Z
DTSTART;VALUE=DATE:20241024
DTEND;VALUE=DATE:20241024
SUMMARY:Ausschreibung — Deutschland – Leistungsschalter – 123kV Leistungsschalter
DESCRIPTION:Phase: Ausschreibung | Beschreibung: Offizielle Ausschreibung mit Bieterfrist. | Link: https://ausschreibungsradar.com/ausschreibung/3d8cdbd5-595b-4482-9e81-2b2a76f603b2/
URL:https://ausschreibungsradar.com/ausschreibung/3d8cdbd5-595b-4482-9e81-2b2a76f603b2/
END:VEVENT
BEGIN:VEVENT
UID:6feab49dea13d295@ausschreibungsradar.com
DTSTAMP:20260426T024952Z
DTSTART;VALUE=DATE:20241028
DTEND;VALUE=DATE:20241028
SUMMARY:Ausschreibung — Deutschland – Leistungsschalter – 123kV Leistungsschalter
DESCRIPTION:Phase: Ausschreibung | Beschreibung: Offizielle Ausschreibung mit Bieterfrist. | Link: https://ausschreibungsradar.com/ausschreibung/ted-653824-2024/
URL:https://ausschreibungsradar.com/ausschreibung/ted-653824-2024/
END:VEVENT
END:VCALENDAR
