BEGIN:VCALENDAR
VERSION:2.0
PRODID:-//AusschreibungsRadar//Timeline//DE
CALSCALE:GREGORIAN
METHOD:PUBLISH
X-WR-CALNAME:Projekt Deutschland – Installation von Schaltanlagen – AE - Teilneub
X-WR-TIMEZONE:Europe/Berlin
BEGIN:VEVENT
UID:92ec40b88e7410e8@ausschreibungsradar.com
DTSTAMP:20260424T134852Z
DTSTART;VALUE=DATE:20250926
DTEND;VALUE=DATE:20250926
SUMMARY:Ausschreibung — Deutschland – Installation von Schaltanlagen – AE - Teilneub
DESCRIPTION:Phase: Ausschreibung | Beschreibung: Offizielle Ausschreibung mit Bieterfrist. | Link: https://ausschreibungsradar.com/ausschreibung/d764e823-8225-4e36-9419-2bb11ad500e3/
URL:https://ausschreibungsradar.com/ausschreibung/d764e823-8225-4e36-9419-2bb11ad500e3/
END:VEVENT
BEGIN:VEVENT
UID:c37b80fe6d8569a5@ausschreibungsradar.com
DTSTAMP:20260424T134852Z
DTSTART;VALUE=DATE:20251007
DTEND;VALUE=DATE:20251007
SUMMARY:Zuschlag — Deutschland – Installation von Schaltanlagen – AE - Teilneub
DESCRIPTION:Phase: Zuschlag | Beschreibung: Vergabeergebnis — Auftrag wurde erteilt oder Verfahren beendet. | Link: https://ausschreibungsradar.com/ausschreibung/1dd3f402-8025-4e47-9df4-ae5521287159/
URL:https://ausschreibungsradar.com/ausschreibung/1dd3f402-8025-4e47-9df4-ae5521287159/
END:VEVENT
BEGIN:VEVENT
UID:b6e5933ad50cf08e@ausschreibungsradar.com
DTSTAMP:20260424T134852Z
DTSTART;VALUE=DATE:20251008
DTEND;VALUE=DATE:20251008
SUMMARY:Ausschreibung — Deutschland – Installation von Schaltanlagen – AE - Teilneub
DESCRIPTION:Phase: Ausschreibung | Beschreibung: Offizielle Ausschreibung mit Bieterfrist. | Link: https://ausschreibungsradar.com/ausschreibung/ted-657722-2025/
URL:https://ausschreibungsradar.com/ausschreibung/ted-657722-2025/
END:VEVENT
BEGIN:VEVENT
UID:cc1c2ffff805a812@ausschreibungsradar.com
DTSTAMP:20260424T134852Z
DTSTART;VALUE=DATE:20251013
DTEND;VALUE=DATE:20251013
SUMMARY:Zuschlag — Deutschland – Installation von Schaltanlagen – AE - Teilneub
DESCRIPTION:Phase: Zuschlag | Beschreibung: Vergabeergebnis — Auftrag wurde erteilt oder Verfahren beendet. | Link: https://ausschreibungsradar.com/ausschreibung/7d4f8784-e6ed-453d-b2bf-dda94cc8c215/
URL:https://ausschreibungsradar.com/ausschreibung/7d4f8784-e6ed-453d-b2bf-dda94cc8c215/
END:VEVENT
BEGIN:VEVENT
UID:3afb37440c998397@ausschreibungsradar.com
DTSTAMP:20260424T134852Z
DTSTART;VALUE=DATE:20251017
DTEND;VALUE=DATE:20251017
SUMMARY:Zuschlag — Deutschland – Installation von Schaltanlagen – AE - Teilneub
DESCRIPTION:Phase: Zuschlag | Beschreibung: Vergabeergebnis — Auftrag wurde erteilt oder Verfahren beendet. | Link: https://ausschreibungsradar.com/ausschreibung/0c64f454-01b3-499c-a3c3-c2faa337ee7c/
URL:https://ausschreibungsradar.com/ausschreibung/0c64f454-01b3-499c-a3c3-c2faa337ee7c/
END:VEVENT
BEGIN:VEVENT
UID:d8bc274f41da59a9@ausschreibungsradar.com
DTSTAMP:20260424T134852Z
DTSTART;VALUE=DATE:20251024
DTEND;VALUE=DATE:20251024
SUMMARY:Ausschreibung — Deutschland – Installation von Schaltanlagen – AE - Teilneub
DESCRIPTION:Phase: Ausschreibung | Beschreibung: Offizielle Ausschreibung mit Bieterfrist. | Link: https://ausschreibungsradar.com/ausschreibung/1d50b694-65ee-45e5-b36a-1aaa7d91dcab/
URL:https://ausschreibungsradar.com/ausschreibung/1d50b694-65ee-45e5-b36a-1aaa7d91dcab/
END:VEVENT
END:VCALENDAR
