BEGIN:VCALENDAR
VERSION:2.0
PRODID:-//AusschreibungsRadar//Timeline//DE
CALSCALE:GREGORIAN
METHOD:PUBLISH
X-WR-CALNAME:Projekt Deutschland – Nahrungsmittel, Getränke, Tabak und zugehörige
X-WR-TIMEZONE:Europe/Berlin
BEGIN:VEVENT
UID:bfa56558bfdc90ff@ausschreibungsradar.com
DTSTAMP:20260424T081011Z
DTSTART;VALUE=DATE:20251007
DTEND;VALUE=DATE:20251007
SUMMARY:Ausschreibung — Deutschland – Nahrungsmittel\, Getränke\, Tabak und zugehörige
DESCRIPTION:Phase: Ausschreibung | Beschreibung: Offizielle Ausschreibung mit Bieterfrist. | Link: https://ausschreibungsradar.com/ausschreibung/68e1e91a-93ad-4f0f-a24f-be01a4891a0e/
URL:https://ausschreibungsradar.com/ausschreibung/68e1e91a-93ad-4f0f-a24f-be01a4891a0e/
END:VEVENT
BEGIN:VEVENT
UID:4f64a06f3e600a15@ausschreibungsradar.com
DTSTAMP:20260424T081011Z
DTSTART;VALUE=DATE:20251008
DTEND;VALUE=DATE:20251008
SUMMARY:Ausschreibung — Deutschland – Nahrungsmittel\, Getränke\, Tabak und zugehörige
DESCRIPTION:Phase: Ausschreibung | Beschreibung: Offizielle Ausschreibung mit Bieterfrist. | Link: https://ausschreibungsradar.com/ausschreibung/ted-658125-2025/ | Geschätzter Wert: 3912886 €
URL:https://ausschreibungsradar.com/ausschreibung/ted-658125-2025/
END:VEVENT
END:VCALENDAR
