BEGIN:VCALENDAR
VERSION:2.0
PRODID:-//AusschreibungsRadar//Timeline//DE
CALSCALE:GREGORIAN
METHOD:PUBLISH
X-WR-CALNAME:Projekt Deutschland – Bauarbeiten – AE - Teilneubau der Grundschule 
X-WR-TIMEZONE:Europe/Berlin
BEGIN:VEVENT
UID:c37b80fe6d8569a5@ausschreibungsradar.com
DTSTAMP:20260425T030820Z
DTSTART;VALUE=DATE:20251007
DTEND;VALUE=DATE:20251007
SUMMARY:Zuschlag — Deutschland – Bauarbeiten – AE - Teilneubau der Grundschule 
DESCRIPTION:Phase: Zuschlag | Beschreibung: Vergabeergebnis — Auftrag wurde erteilt oder Verfahren beendet. | Link: https://ausschreibungsradar.com/ausschreibung/1dd3f402-8025-4e47-9df4-ae5521287159/
URL:https://ausschreibungsradar.com/ausschreibung/1dd3f402-8025-4e47-9df4-ae5521287159/
END:VEVENT
BEGIN:VEVENT
UID:02d1ee4f01bdd92a@ausschreibungsradar.com
DTSTAMP:20260425T030820Z
DTSTART;VALUE=DATE:20251008
DTEND;VALUE=DATE:20251008
SUMMARY:Zuschlag — Deutschland – Bauarbeiten – AE - Teilneubau der Grundschule 
DESCRIPTION:Phase: Zuschlag | Beschreibung: Vergabeergebnis — Auftrag wurde erteilt oder Verfahren beendet. | Link: https://ausschreibungsradar.com/ausschreibung/ted-659964-2025/ | Geschätzter Wert: 118674 €
URL:https://ausschreibungsradar.com/ausschreibung/ted-659964-2025/
END:VEVENT
BEGIN:VEVENT
UID:d8bc274f41da59a9@ausschreibungsradar.com
DTSTAMP:20260425T030820Z
DTSTART;VALUE=DATE:20251024
DTEND;VALUE=DATE:20251024
SUMMARY:Ausschreibung — Deutschland – Bauarbeiten – AE - Teilneubau der Grundschule 
DESCRIPTION:Phase: Ausschreibung | Beschreibung: Offizielle Ausschreibung mit Bieterfrist. | Link: https://ausschreibungsradar.com/ausschreibung/1d50b694-65ee-45e5-b36a-1aaa7d91dcab/
URL:https://ausschreibungsradar.com/ausschreibung/1d50b694-65ee-45e5-b36a-1aaa7d91dcab/
END:VEVENT
END:VCALENDAR
