BEGIN:VCALENDAR
VERSION:2.0
PRODID:-//AusschreibungsRadar//Timeline//DE
CALSCALE:GREGORIAN
METHOD:PUBLISH
X-WR-CALNAME:Projekt Deutschland – Installation von elektrischen Leitungen – Mutt
X-WR-TIMEZONE:Europe/Berlin
BEGIN:VEVENT
UID:560c3824d0d2e353@ausschreibungsradar.com
DTSTAMP:20260425T203152Z
DTSTART;VALUE=DATE:20231026
DTEND;VALUE=DATE:20231026
SUMMARY:Ausschreibung — Deutschland – Installation von elektrischen Leitungen – Mutt
DESCRIPTION:Phase: Ausschreibung | Beschreibung: Offizielle Ausschreibung mit Bieterfrist. | Link: https://ausschreibungsradar.com/ausschreibung/d1052b74-0480-455d-b674-4ffce87cf7f1/
URL:https://ausschreibungsradar.com/ausschreibung/d1052b74-0480-455d-b674-4ffce87cf7f1/
END:VEVENT
BEGIN:VEVENT
UID:5f0ca9465c92a202@ausschreibungsradar.com
DTSTAMP:20260425T203152Z
DTSTART;VALUE=DATE:20231030
DTEND;VALUE=DATE:20231030
SUMMARY:Ausschreibung — Deutschland – Installation von elektrischen Leitungen – Mutt
DESCRIPTION:Phase: Ausschreibung | Beschreibung: Offizielle Ausschreibung mit Bieterfrist. | Link: https://ausschreibungsradar.com/ausschreibung/ted-660171-2023/ | Geschätzter Wert: 182000 €
URL:https://ausschreibungsradar.com/ausschreibung/ted-660171-2023/
END:VEVENT
END:VCALENDAR
