BEGIN:VCALENDAR
VERSION:2.0
PRODID:-//AusschreibungsRadar//Timeline//DE
CALSCALE:GREGORIAN
METHOD:PUBLISH
X-WR-CALNAME:Projekt Deutschland – Bau von Feuerwachen – Neubau Feuerwehrgeräteha
X-WR-TIMEZONE:Europe/Berlin
BEGIN:VEVENT
UID:c8b4855c049f597d@ausschreibungsradar.com
DTSTAMP:20260426T024956Z
DTSTART;VALUE=DATE:20251006
DTEND;VALUE=DATE:20251006
SUMMARY:Ausschreibung — Deutschland – Bau von Feuerwachen – Neubau Feuerwehrgeräteha
DESCRIPTION:Phase: Ausschreibung | Beschreibung: Offizielle Ausschreibung mit Bieterfrist. | Link: https://ausschreibungsradar.com/ausschreibung/f93be291-5ded-4e30-94c4-e62651df0e43/
URL:https://ausschreibungsradar.com/ausschreibung/f93be291-5ded-4e30-94c4-e62651df0e43/
END:VEVENT
BEGIN:VEVENT
UID:d3e2b4d96af65ffb@ausschreibungsradar.com
DTSTAMP:20260426T024956Z
DTSTART;VALUE=DATE:20251008
DTEND;VALUE=DATE:20251008
SUMMARY:Ausschreibung — Deutschland – Bau von Feuerwachen – Neubau Feuerwehrgeräteha
DESCRIPTION:Phase: Ausschreibung | Beschreibung: Offizielle Ausschreibung mit Bieterfrist. | Link: https://ausschreibungsradar.com/ausschreibung/ted-660419-2025/
URL:https://ausschreibungsradar.com/ausschreibung/ted-660419-2025/
END:VEVENT
END:VCALENDAR
