BEGIN:VCALENDAR
VERSION:2.0
PRODID:-//AusschreibungsRadar//Timeline//DE
CALSCALE:GREGORIAN
METHOD:PUBLISH
X-WR-CALNAME:Projekt Deutschland – Bauarbeiten – Neubau Betriebshof Ost - Dacharb
X-WR-TIMEZONE:Europe/Berlin
BEGIN:VEVENT
UID:0ade15cb7013ff76@ausschreibungsradar.com
DTSTAMP:20260425T203146Z
DTSTART;VALUE=DATE:20251009
DTEND;VALUE=DATE:20251009
SUMMARY:Zuschlag — Deutschland – Bauarbeiten – Neubau Betriebshof Ost - Dacharb
DESCRIPTION:Phase: Zuschlag | Beschreibung: Vergabeergebnis — Auftrag wurde erteilt oder Verfahren beendet. | Link: https://ausschreibungsradar.com/ausschreibung/ted-663744-2025/ | Geschätzter Wert: 356081 €
URL:https://ausschreibungsradar.com/ausschreibung/ted-663744-2025/
END:VEVENT
BEGIN:VEVENT
UID:c6f04bac49f3e901@ausschreibungsradar.com
DTSTAMP:20260425T203146Z
DTSTART;VALUE=DATE:20251009
DTEND;VALUE=DATE:20251009
SUMMARY:Zuschlag — Deutschland – Bauarbeiten – Neubau Betriebshof Ost - Dacharb
DESCRIPTION:Phase: Zuschlag | Beschreibung: Vergabeergebnis — Auftrag wurde erteilt oder Verfahren beendet. | Link: https://ausschreibungsradar.com/ausschreibung/ted-664590-2025/
URL:https://ausschreibungsradar.com/ausschreibung/ted-664590-2025/
END:VEVENT
END:VCALENDAR
