BEGIN:VCALENDAR
VERSION:2.0
PRODID:-//AusschreibungsRadar//Timeline//DE
CALSCALE:GREGORIAN
METHOD:PUBLISH
X-WR-CALNAME:Projekt Deutschland – Erdgas – Lieferung von Erdgas für ca. 273 Abna
X-WR-TIMEZONE:Europe/Berlin
BEGIN:VEVENT
UID:8f378acbfba70884@ausschreibungsradar.com
DTSTAMP:20260424T071505Z
DTSTART;VALUE=DATE:20251010
DTEND;VALUE=DATE:20251010
SUMMARY:Zuschlag — Deutschland – Erdgas – Lieferung von Erdgas für ca. 273 Abna
DESCRIPTION:Phase: Zuschlag | Beschreibung: Vergabeergebnis — Auftrag wurde erteilt oder Verfahren beendet. | Link: https://ausschreibungsradar.com/ausschreibung/cd26d20b-9c25-45f9-99e3-41df8a197d88/
URL:https://ausschreibungsradar.com/ausschreibung/cd26d20b-9c25-45f9-99e3-41df8a197d88/
END:VEVENT
BEGIN:VEVENT
UID:77e5c33370e879f1@ausschreibungsradar.com
DTSTAMP:20260424T071505Z
DTSTART;VALUE=DATE:20251013
DTEND;VALUE=DATE:20251013
SUMMARY:Zuschlag — Deutschland – Erdgas – Lieferung von Erdgas für ca. 273 Abna
DESCRIPTION:Phase: Zuschlag | Beschreibung: Vergabeergebnis — Auftrag wurde erteilt oder Verfahren beendet. | Link: https://ausschreibungsradar.com/ausschreibung/ted-669598-2025/
URL:https://ausschreibungsradar.com/ausschreibung/ted-669598-2025/
END:VEVENT
BEGIN:VEVENT
UID:24342dc352ff4a69@ausschreibungsradar.com
DTSTAMP:20260424T071505Z
DTSTART;VALUE=DATE:20251016
DTEND;VALUE=DATE:20251016
SUMMARY:Ausschreibung — Deutschland – Erdgas – Lieferung von Erdgas für ca. 273 Abna
DESCRIPTION:Phase: Ausschreibung | Beschreibung: Offizielle Ausschreibung mit Bieterfrist. | Link: https://ausschreibungsradar.com/ausschreibung/f29c34f7-9504-4e32-acce-5cfd24b71d43/
URL:https://ausschreibungsradar.com/ausschreibung/f29c34f7-9504-4e32-acce-5cfd24b71d43/
END:VEVENT
BEGIN:VEVENT
UID:7b807c15fc4bc01a@ausschreibungsradar.com
DTSTAMP:20260424T071505Z
DTSTART;VALUE=DATE:20251016
DTEND;VALUE=DATE:20251016
SUMMARY:Ausschreibung — Deutschland – Erdgas – Lieferung von Erdgas für ca. 273 Abna
DESCRIPTION:Phase: Ausschreibung | Beschreibung: Offizielle Ausschreibung mit Bieterfrist. | Link: https://ausschreibungsradar.com/ausschreibung/a6d5c89f-3b3c-4402-b2bf-1066efe8c76a/
URL:https://ausschreibungsradar.com/ausschreibung/a6d5c89f-3b3c-4402-b2bf-1066efe8c76a/
END:VEVENT
END:VCALENDAR
