BEGIN:VCALENDAR
VERSION:2.0
PRODID:-//AusschreibungsRadar//Timeline//DE
CALSCALE:GREGORIAN
METHOD:PUBLISH
X-WR-CALNAME:Projekt Deutschland – Oberflächenbeschichtungsarbeiten – 444 - Sanie
X-WR-TIMEZONE:Europe/Berlin
BEGIN:VEVENT
UID:cdd368ca7c798cb4@ausschreibungsradar.com
DTSTAMP:20260425T144021Z
DTSTART;VALUE=DATE:20240202
DTEND;VALUE=DATE:20240202
SUMMARY:Zuschlag — Deutschland – Oberflächenbeschichtungsarbeiten – 444 - Sanie
DESCRIPTION:Phase: Zuschlag | Beschreibung: Vergabeergebnis — Auftrag wurde erteilt oder Verfahren beendet. | Link: https://ausschreibungsradar.com/ausschreibung/803ff58c-609a-4a26-9df7-cc63f80afd86/
URL:https://ausschreibungsradar.com/ausschreibung/803ff58c-609a-4a26-9df7-cc63f80afd86/
END:VEVENT
BEGIN:VEVENT
UID:5f5e0b255c006f47@ausschreibungsradar.com
DTSTAMP:20260425T144021Z
DTSTART;VALUE=DATE:20240205
DTEND;VALUE=DATE:20240205
SUMMARY:Zuschlag — Deutschland – Oberflächenbeschichtungsarbeiten – 444 - Sanie
DESCRIPTION:Phase: Zuschlag | Beschreibung: Vergabeergebnis — Auftrag wurde erteilt oder Verfahren beendet. | Link: https://ausschreibungsradar.com/ausschreibung/ted-74607-2024/ | Geschätzter Wert: 64607 €
URL:https://ausschreibungsradar.com/ausschreibung/ted-74607-2024/
END:VEVENT
END:VCALENDAR
