BEGIN:VCALENDAR
VERSION:2.0
PRODID:-//AusschreibungsRadar//Timeline//DE
CALSCALE:GREGORIAN
METHOD:PUBLISH
X-WR-CALNAME:Projekt Deutschland – Maschinen für die Verarbeitung von Kautschuk o
X-WR-TIMEZONE:Europe/Berlin
BEGIN:VEVENT
UID:43f32d2ccc5845df@ausschreibungsradar.com
DTSTAMP:20260426T011252Z
DTSTART;VALUE=DATE:20231208
DTEND;VALUE=DATE:20231208
SUMMARY:Ausschreibung — Deutschland – Maschinen für die Verarbeitung von Kautschuk o
DESCRIPTION:Phase: Ausschreibung | Beschreibung: Offizielle Ausschreibung mit Bieterfrist. | Link: https://ausschreibungsradar.com/ausschreibung/83f9975e-3b90-4bf4-a057-ab9186dcae5a/
URL:https://ausschreibungsradar.com/ausschreibung/83f9975e-3b90-4bf4-a057-ab9186dcae5a/
END:VEVENT
BEGIN:VEVENT
UID:d7b62179933781c9@ausschreibungsradar.com
DTSTAMP:20260426T011252Z
DTSTART;VALUE=DATE:20231212
DTEND;VALUE=DATE:20231212
SUMMARY:Ausschreibung — Deutschland – Maschinen für die Verarbeitung von Kautschuk o
DESCRIPTION:Phase: Ausschreibung | Beschreibung: Offizielle Ausschreibung mit Bieterfrist. | Link: https://ausschreibungsradar.com/ausschreibung/ted-752611-2023/
URL:https://ausschreibungsradar.com/ausschreibung/ted-752611-2023/
END:VEVENT
END:VCALENDAR
