BEGIN:VCALENDAR
VERSION:2.0
PRODID:-//AusschreibungsRadar//Timeline//DE
CALSCALE:GREGORIAN
METHOD:PUBLISH
X-WR-CALNAME:Projekt Deutschland – Gebäudereinigung – Mutter-Kind-Zentrum Auf der
X-WR-TIMEZONE:Europe/Berlin
BEGIN:VEVENT
UID:90ddf57a63675c4f@ausschreibungsradar.com
DTSTAMP:20260425T171607Z
DTSTART;VALUE=DATE:20231212
DTEND;VALUE=DATE:20231212
SUMMARY:Ausschreibung — Deutschland – Gebäudereinigung – Mutter-Kind-Zentrum Auf der
DESCRIPTION:Phase: Ausschreibung | Beschreibung: Offizielle Ausschreibung mit Bieterfrist. | Link: https://ausschreibungsradar.com/ausschreibung/d8e4a376-3d92-42fc-bdd7-ae655061d4e1/
URL:https://ausschreibungsradar.com/ausschreibung/d8e4a376-3d92-42fc-bdd7-ae655061d4e1/
END:VEVENT
BEGIN:VEVENT
UID:2bd59e3965b123a8@ausschreibungsradar.com
DTSTAMP:20260425T171607Z
DTSTART;VALUE=DATE:20231213
DTEND;VALUE=DATE:20231213
SUMMARY:Ausschreibung — Deutschland – Gebäudereinigung – Mutter-Kind-Zentrum Auf der
DESCRIPTION:Phase: Ausschreibung | Beschreibung: Offizielle Ausschreibung mit Bieterfrist. | Link: https://ausschreibungsradar.com/ausschreibung/ted-755370-2023/ | Geschätzter Wert: 11700 €
URL:https://ausschreibungsradar.com/ausschreibung/ted-755370-2023/
END:VEVENT
BEGIN:VEVENT
UID:2c244789846350a1@ausschreibungsradar.com
DTSTAMP:20260425T171607Z
DTSTART;VALUE=DATE:20231213
DTEND;VALUE=DATE:20231213
SUMMARY:Zuschlag — Deutschland – Gebäudereinigung – Mutter-Kind-Zentrum Auf der
DESCRIPTION:Phase: Zuschlag | Beschreibung: Vergabeergebnis — Auftrag wurde erteilt oder Verfahren beendet. | Link: https://ausschreibungsradar.com/ausschreibung/58eb61c2-553a-44aa-a1ec-eb6518a95314/
URL:https://ausschreibungsradar.com/ausschreibung/58eb61c2-553a-44aa-a1ec-eb6518a95314/
END:VEVENT
END:VCALENDAR
