BEGIN:VCALENDAR
VERSION:2.0
PRODID:-//AusschreibungsRadar//Timeline//DE
CALSCALE:GREGORIAN
METHOD:PUBLISH
X-WR-CALNAME:Projekt Deutschland – Installation von Heizungs-, Lüftungs- und Klim
X-WR-TIMEZONE:Europe/Berlin
BEGIN:VEVENT
UID:0ee6d8b976cc1385@ausschreibungsradar.com
DTSTAMP:20260425T143716Z
DTSTART;VALUE=DATE:20231128
DTEND;VALUE=DATE:20231128
SUMMARY:Ausschreibung — Deutschland – Installation von Heizungs-\, Lüftungs- und Klim
DESCRIPTION:Phase: Ausschreibung | Beschreibung: Offizielle Ausschreibung mit Bieterfrist. | Link: https://ausschreibungsradar.com/ausschreibung/ted-722257-2023/
URL:https://ausschreibungsradar.com/ausschreibung/ted-722257-2023/
END:VEVENT
BEGIN:VEVENT
UID:e1ca8b8f92e065e7@ausschreibungsradar.com
DTSTAMP:20260425T143716Z
DTSTART;VALUE=DATE:20231214
DTEND;VALUE=DATE:20231214
SUMMARY:Ausschreibung — Deutschland – Installation von Heizungs-\, Lüftungs- und Klim
DESCRIPTION:Phase: Ausschreibung | Beschreibung: Offizielle Ausschreibung mit Bieterfrist. | Link: https://ausschreibungsradar.com/ausschreibung/ted-757455-2023/ | Geschätzter Wert: 685000 €
URL:https://ausschreibungsradar.com/ausschreibung/ted-757455-2023/
END:VEVENT
END:VCALENDAR
